BEGIN:VCALENDAR
VERSION:2.0
PRODID:-//pretix//pretix.eu//
BEGIN:VEVENT
UID:pretix-fctsmannheim-dauerkarte-0@fctsmannheim.vereinsticket.de
DTSTART;VALUE=DATE:20250805
DTEND;VALUE=DATE:20250806
DESCRIPTION:Tickets: https://fctsmannheim.vereinsticket.de/dauerkarte/\nVer
 anstalter: FC Türkspor Mannheim
DTSTAMP:20260422T013514Z
SUMMARY:Dauerkarte Saison 2025 / 2026
END:VEVENT
END:VCALENDAR
